BEGIN:VCALENDAR
VERSION:2.0
PRODID:-//A Bunch of Short Guys - ECPv6.15.20//NONSGML v1.0//EN
CALSCALE:GREGORIAN
METHOD:PUBLISH
X-ORIGINAL-URL:https://www.abunchofshortguys.org
X-WR-CALDESC:Events for A Bunch of Short Guys
REFRESH-INTERVAL;VALUE=DURATION:PT1H
X-Robots-Tag:noindex
X-PUBLISHED-TTL:PT1H
BEGIN:VTIMEZONE
TZID:UTC
BEGIN:STANDARD
TZOFFSETFROM:+0000
TZOFFSETTO:+0000
TZNAME:UTC
DTSTART:20140101T000000
END:STANDARD
END:VTIMEZONE
BEGIN:VEVENT
DTSTART;TZID=UTC:20150729T180000
DTEND;TZID=UTC:20150729T200000
DTSTAMP:20260423T121946
CREATED:20170111T003104Z
LAST-MODIFIED:20170131T213642Z
UID:310-1438192800-1438200000@www.abunchofshortguys.org
SUMMARY:IMAGINE DESIGN CREATE 2015!
DESCRIPTION:Please join Autodesk\, CORGAN\, HP\, NVIDIA\, and Xsens for\n\n\nIMAGINE DESIGN CREATE 2015!\n\n\nThis is a free event for creative professionals and 3D artists.\n\n\n\n\n\n\nAutodesk is excited to share the BIG NEW BETTER 2016 releases of Autodesk®3ds Max®and Autodesk®Maya®. The Technical Specialists are thrilled to show you all the great enhancements and additions…The highly talked about MCG tool in 3ds Max®\, the best release of Maya®  to date…Just too much to mention in this small space! We’re also presenting our latest acquisitions Shotgun and RV.\nXsens will be on site for a live demonstration of their full-body\, wearable motion capture solution. Xsens MVN is the ideal tool for professional animators.We are pleased to be hosted by Corgan. Corgan is a leading architecture and design firm with deep technical expertise and a reputation for great service. Consistently ranked as one of the top 10 architecture firms in the US.Food and drinks will be provided. Bring your business cards to be eligible for prizes. Space is limited\, so please RSVP today! https://us.gep.autodesk-services.com/registration/37733 We look forward to seeing you there! \n\n\n\nDate:\nWednesday\, July 29th\n\n\nTime:\n6:00 – 9:00 pm\n\n\nVenue:\nCORGAN\n401 North Houston Street\nDallas\, TX 75202
URL:https://www.abunchofshortguys.org/myevent/310/
CATEGORIES:Community Events
END:VEVENT
BEGIN:VEVENT
DTSTART;TZID=UTC:20150418T110000
DTEND;TZID=UTC:20150418T130000
DTSTAMP:20260423T121946
CREATED:20170111T003900Z
LAST-MODIFIED:20170131T213840Z
UID:322-1429354800-1429362000@www.abunchofshortguys.org
SUMMARY:Everything is Awesome at the 2015 Dallas International Film Festival!
DESCRIPTION:The Dallas Film Society is honored to have THE LEGO MOVIE directors Phil Lord and Christopher Miller here for a special screening and conversation about their film after receiving the Texas Avery Award at DFS Honors. \nIn THE LEGO MOVIE\, Emmet is an ordinary guy\, going about his typical day when he discovers the Piece of Resistance. His new friend\, WyldStyle\, tells him a prophecy of how Emmet’s discovery makes him “the Special”. Escaping from Bad Cop\, she takes Emmet to meet with the other Master Builders and shares his story: Emmet is now the key to protect the “Kragle”\, a superweapon controlled by the evil Lord Business. With the help of Masterbuilders Vitruvius\, Batman\, Unikitty and Benny\, Emmet leads the battle against Lord Business to save the universe. THE LEGO MOVIE is a clever\, fun and vibrant world\, bringing you back to your childhood and the creativity that came from playing with Legos. The film was a national hit upon release last year and earned multiple awards and nominations. \nDate: Saturday\, April 18th\nTime: 11:00 am\nLocation: Angelika Film Center Mockingbird Station\, 5321 E Mockingbird Ln #230\, Dallas\, TX 75206\nFor tickets and more info: \nhttp://secure.dallasfilm.org/festivalfeature/id/23871675209902352
URL:https://www.abunchofshortguys.org/myevent/everything-is-awesome-at-the-dallas-international-film-festival/
CATEGORIES:Community Events
END:VEVENT
END:VCALENDAR