BEGIN:VCALENDAR
VERSION:2.0
PRODID:-//A Bunch of Short Guys - ECPv6.15.20//NONSGML v1.0//EN
CALSCALE:GREGORIAN
METHOD:PUBLISH
X-WR-CALNAME:A Bunch of Short Guys
X-ORIGINAL-URL:https://www.abunchofshortguys.org
X-WR-CALDESC:Events for A Bunch of Short Guys
REFRESH-INTERVAL;VALUE=DURATION:PT1H
X-Robots-Tag:noindex
X-PUBLISHED-TTL:PT1H
BEGIN:VTIMEZONE
TZID:UTC
BEGIN:STANDARD
TZOFFSETFROM:+0000
TZOFFSETTO:+0000
TZNAME:UTC
DTSTART:20160101T000000
END:STANDARD
END:VTIMEZONE
BEGIN:VEVENT
DTSTART;TZID=UTC:20170204T190000
DTEND;TZID=UTC:20170204T230000
DTSTAMP:20260423T132541
CREATED:20170108T201141Z
LAST-MODIFIED:20170125T183516Z
UID:51-1486234800-1486249200@www.abunchofshortguys.org
SUMMARY:Winter Party 2017
DESCRIPTION:ABOSG and IGDA Present Winter party
URL:https://www.abunchofshortguys.org/myevent/winter-party/
LOCATION:Richardson Civic Center\, 411 W. Arapaho Rd. \, Richardson\, TX\, 75080\, United States
CATEGORIES:Parties
END:VEVENT
END:VCALENDAR